BEGIN:VCALENDAR
METHOD:PUBLISH
PRODID:-//github.com/ical-org/ical.net//NONSGML ical.net 5.1.0//EN
VERSION:2.0
X-WR-CALNAME:TRAININGplus - 
BEGIN:VEVENT
DESCRIPTION:
DTEND:20240516T160000Z
DTSTAMP:20260420T122527Z
DTSTART:20240516T120000Z
LOCATION:Volkshaus\, Theatersaal\, Stauffacherstrasse 60\, 8004 Zürich
SEQUENCE:0
SUMMARY:Veranstaltungen - Forum Schulführung 2024: Teilhabe im Fokus – V
 ielfalt als Chance - S20240516
UID:f42f5f0b-4b0a-49fa-8d6b-af79cc0bb214
X-ALT-DESC;FMTTYPE=text/html:
END:VEVENT
END:VCALENDAR
